BEGIN:VCALENDAR
VERSION:2.0
PRODID:-//Segeln im Urnersee - ECPv6.15.20//NONSGML v1.0//EN
CALSCALE:GREGORIAN
METHOD:PUBLISH
X-ORIGINAL-URL:https://segeln-im-urnersee.ch
X-WR-CALDESC:Veranstaltungen für Segeln im Urnersee
REFRESH-INTERVAL;VALUE=DURATION:PT1H
X-Robots-Tag:noindex
X-PUBLISHED-TTL:PT1H
BEGIN:VTIMEZONE
TZID:Europe/Zurich
BEGIN:DAYLIGHT
TZOFFSETFROM:+0100
TZOFFSETTO:+0200
TZNAME:CEST
DTSTART:20240331T010000
END:DAYLIGHT
BEGIN:STANDARD
TZOFFSETFROM:+0200
TZOFFSETTO:+0100
TZNAME:CET
DTSTART:20241027T010000
END:STANDARD
BEGIN:DAYLIGHT
TZOFFSETFROM:+0100
TZOFFSETTO:+0200
TZNAME:CEST
DTSTART:20250330T010000
END:DAYLIGHT
BEGIN:STANDARD
TZOFFSETFROM:+0200
TZOFFSETTO:+0100
TZNAME:CET
DTSTART:20251026T010000
END:STANDARD
BEGIN:DAYLIGHT
TZOFFSETFROM:+0100
TZOFFSETTO:+0200
TZNAME:CEST
DTSTART:20260329T010000
END:DAYLIGHT
BEGIN:STANDARD
TZOFFSETFROM:+0200
TZOFFSETTO:+0100
TZNAME:CET
DTSTART:20261025T010000
END:STANDARD
END:VTIMEZONE
BEGIN:VEVENT
DTSTART;TZID=Europe/Zurich:20250731T120000
DTEND;TZID=Europe/Zurich:20250731T170000
DTSTAMP:20260425T035139
CREATED:20250706T191006Z
LAST-MODIFIED:20250801T133803Z
UID:662-1753963200-1753981200@segeln-im-urnersee.ch
SUMMARY:Spinnakersegeln im Urnersee
DESCRIPTION:Start 12 Uhr im Hafen Felsenegg\, Gersau \n\n\n\nSegeln nach Wind und Wetter\, ab Gersau Richtung Brunnen-Sisikon-Flüelen. Meist räumlich nach Flüelen\, dann aufkreuzend zurück.
URL:https://segeln-im-urnersee.ch/event/uebernachtungstoern-im-urnersee/
LOCATION:Gersau\, Hafen Felsenegg\, Gersau\, Schwyz\, Schweiz
ORGANIZER;CN="Matthias Sch%C3%BCrch":MAILTO:m.schuerch@eblcom.ch
END:VEVENT
END:VCALENDAR