BEGIN:VCALENDAR
VERSION:2.0
PRODID:-//Segeln im Urnersee - ECPv6.15.20//NONSGML v1.0//EN
CALSCALE:GREGORIAN
METHOD:PUBLISH
X-ORIGINAL-URL:https://segeln-im-urnersee.ch
X-WR-CALDESC:Veranstaltungen für Segeln im Urnersee
REFRESH-INTERVAL;VALUE=DURATION:PT1H
X-Robots-Tag:noindex
X-PUBLISHED-TTL:PT1H
BEGIN:VTIMEZONE
TZID:Europe/Zurich
BEGIN:DAYLIGHT
TZOFFSETFROM:+0100
TZOFFSETTO:+0200
TZNAME:CEST
DTSTART:20250330T010000
END:DAYLIGHT
BEGIN:STANDARD
TZOFFSETFROM:+0200
TZOFFSETTO:+0100
TZNAME:CET
DTSTART:20251026T010000
END:STANDARD
BEGIN:DAYLIGHT
TZOFFSETFROM:+0100
TZOFFSETTO:+0200
TZNAME:CEST
DTSTART:20260329T010000
END:DAYLIGHT
BEGIN:STANDARD
TZOFFSETFROM:+0200
TZOFFSETTO:+0100
TZNAME:CET
DTSTART:20261025T010000
END:STANDARD
BEGIN:DAYLIGHT
TZOFFSETFROM:+0100
TZOFFSETTO:+0200
TZNAME:CEST
DTSTART:20270328T010000
END:DAYLIGHT
BEGIN:STANDARD
TZOFFSETFROM:+0200
TZOFFSETTO:+0100
TZNAME:CET
DTSTART:20271031T010000
END:STANDARD
END:VTIMEZONE
BEGIN:VEVENT
DTSTART;TZID=Europe/Zurich:20260501T120000
DTEND;TZID=Europe/Zurich:20260501T180000
DTSTAMP:20260424T170742
CREATED:20260420T130158Z
LAST-MODIFIED:20260420T175816Z
UID:686-1777636800-1777658400@segeln-im-urnersee.ch
SUMMARY:Törn im Urnersee
DESCRIPTION:Segeln nach Wind und Wetter\, ab Gersau meistbRichtung Brunnen-Sisikon-Flüelen. In der Regel mit räumlichen Kurs Richtung Flüelen\, wenn möglich setzen wir dabei den Spi. Dann aufkreuzend zurück\, bei tollem thermischen Wind oft im Reff.Ja\, auf dem Urnersee läuft was!
URL:https://segeln-im-urnersee.ch/event/toern-im-urnersee/
LOCATION:Gersau\, Hafen Felsenegg\, Gersau\, Schwyz\, Schweiz
ATTACH;FMTTYPE=image/jpeg:https://segeln-im-urnersee.ch/wp-content/uploads/2025/04/WhatsApp-Bild-2025-04-13-um-14.50.05_151eb717.jpg
ORGANIZER;CN="Matthias Sch%C3%BCrch":MAILTO:m.schuerch@eblcom.ch
END:VEVENT
END:VCALENDAR