BEGIN:VCALENDAR
VERSION:2.0
PRODID:-//Segeln im Urnersee - ECPv6.15.20//NONSGML v1.0//EN
CALSCALE:GREGORIAN
METHOD:PUBLISH
X-ORIGINAL-URL:https://segeln-im-urnersee.ch
X-WR-CALDESC:Veranstaltungen für Segeln im Urnersee
REFRESH-INTERVAL;VALUE=DURATION:PT1H
X-Robots-Tag:noindex
X-PUBLISHED-TTL:PT1H
BEGIN:VTIMEZONE
TZID:Europe/Zurich
BEGIN:DAYLIGHT
TZOFFSETFROM:+0100
TZOFFSETTO:+0200
TZNAME:CEST
DTSTART:20240331T010000
END:DAYLIGHT
BEGIN:STANDARD
TZOFFSETFROM:+0200
TZOFFSETTO:+0100
TZNAME:CET
DTSTART:20241027T010000
END:STANDARD
BEGIN:DAYLIGHT
TZOFFSETFROM:+0100
TZOFFSETTO:+0200
TZNAME:CEST
DTSTART:20250330T010000
END:DAYLIGHT
BEGIN:STANDARD
TZOFFSETFROM:+0200
TZOFFSETTO:+0100
TZNAME:CET
DTSTART:20251026T010000
END:STANDARD
BEGIN:DAYLIGHT
TZOFFSETFROM:+0100
TZOFFSETTO:+0200
TZNAME:CEST
DTSTART:20260329T010000
END:DAYLIGHT
BEGIN:STANDARD
TZOFFSETFROM:+0200
TZOFFSETTO:+0100
TZNAME:CET
DTSTART:20261025T010000
END:STANDARD
END:VTIMEZONE
BEGIN:VEVENT
DTSTART;TZID=Europe/Zurich:20250809T110000
DTEND;TZID=Europe/Zurich:20250810T170000
DTSTAMP:20260425T035118
CREATED:20240801T132842Z
LAST-MODIFIED:20250706T191321Z
UID:421-1754737200-1754845200@segeln-im-urnersee.ch
SUMMARY:Schnuppersegeln Windweek
DESCRIPTION:An der Windweek vom 8.-10. August 2025 bieten wir mit den beiden Sailcombooten J70 und m2 Zephyr 90minütige Schnuppersegeln an. Eine gute Gelegenheit Segelerfahrung in Begleitung von erfahrenen Skippern und Skipperinnen zu sammeln. \n\n\n\n\nSamstag\, 11.00-12.30/13.00-14.30/15.00-16.30/17.00-18.30\n\n\n\nSonntag\, 11.00-12.30/13.00-14.30/15.00-16.30\n\n\n\n\nDie Segelausflüge werden den Besucherinnen und Besuchern der Windweek gratis angeboten. Plätze hat es\, so lange es Plätze hat 🙂Melde dich beim Sailcomstand auf Platz 11 und frag nach\, wann es noch freie Plätze hat.
URL:https://segeln-im-urnersee.ch/event/schnuppersegeln-windweek/
LOCATION:Schwyz
ATTACH;FMTTYPE=image/png:https://segeln-im-urnersee.ch/wp-content/uploads/2024/08/image.png
END:VEVENT
END:VCALENDAR